BEGIN:VCALENDAR
VERSION:2.0
PRODID:-//Belize Association of Houston - ECPv6.15.20//NONSGML v1.0//EN
CALSCALE:GREGORIAN
METHOD:PUBLISH
X-WR-CALNAME:Belize Association of Houston
X-ORIGINAL-URL:https://belizeassociationofhouston.org
X-WR-CALDESC:Events for Belize Association of Houston
REFRESH-INTERVAL;VALUE=DURATION:PT1H
X-Robots-Tag:noindex
X-PUBLISHED-TTL:PT1H
BEGIN:VTIMEZONE
TZID:America/Chicago
BEGIN:DAYLIGHT
TZOFFSETFROM:-0600
TZOFFSETTO:-0500
TZNAME:CDT
DTSTART:20240310T080000
END:DAYLIGHT
BEGIN:STANDARD
TZOFFSETFROM:-0500
TZOFFSETTO:-0600
TZNAME:CST
DTSTART:20241103T070000
END:STANDARD
BEGIN:DAYLIGHT
TZOFFSETFROM:-0600
TZOFFSETTO:-0500
TZNAME:CDT
DTSTART:20250309T080000
END:DAYLIGHT
BEGIN:STANDARD
TZOFFSETFROM:-0500
TZOFFSETTO:-0600
TZNAME:CST
DTSTART:20251102T070000
END:STANDARD
BEGIN:DAYLIGHT
TZOFFSETFROM:-0600
TZOFFSETTO:-0500
TZNAME:CDT
DTSTART:20260308T080000
END:DAYLIGHT
BEGIN:STANDARD
TZOFFSETFROM:-0500
TZOFFSETTO:-0600
TZNAME:CST
DTSTART:20261101T070000
END:STANDARD
END:VTIMEZONE
BEGIN:VEVENT
DTSTART;TZID=America/Chicago:20250906T140000
DTEND;TZID=America/Chicago:20250906T190000
DTSTAMP:20260422T011547
CREATED:20250419T200854Z
LAST-MODIFIED:20250830T234231Z
UID:5410-1757167200-1757185200@belizeassociationofhouston.org
SUMMARY:Houston Belize Day
DESCRIPTION:Live DJ! \nAuthentic Belizean Food! \nFamily Fun! \nGood Vibes! \nBring your Belize flags!!! \nWe look forward to seeing you there!
URL:https://belizeassociationofhouston.org/event/houston-belize-day/
LOCATION:Tom Bass Regional Park\, 15108 Cullen Blvd\, Houston\, TX\, 77047\, United States
ORGANIZER;CN="The Belize Association of Houston":MAILTO:contact@belizeassociationofhouston.org
END:VEVENT
END:VCALENDAR