BEGIN:VCALENDAR
VERSION:2.0
PRODID:-//Belize Association of Houston - ECPv6.15.20//NONSGML v1.0//EN
CALSCALE:GREGORIAN
METHOD:PUBLISH
X-ORIGINAL-URL:https://belizeassociationofhouston.org
X-WR-CALDESC:Events for Belize Association of Houston
REFRESH-INTERVAL;VALUE=DURATION:PT1H
X-Robots-Tag:noindex
X-PUBLISHED-TTL:PT1H
BEGIN:VTIMEZONE
TZID:America/Chicago
BEGIN:DAYLIGHT
TZOFFSETFROM:-0600
TZOFFSETTO:-0500
TZNAME:CDT
DTSTART:20240310T080000
END:DAYLIGHT
BEGIN:STANDARD
TZOFFSETFROM:-0500
TZOFFSETTO:-0600
TZNAME:CST
DTSTART:20241103T070000
END:STANDARD
BEGIN:DAYLIGHT
TZOFFSETFROM:-0600
TZOFFSETTO:-0500
TZNAME:CDT
DTSTART:20250309T080000
END:DAYLIGHT
BEGIN:STANDARD
TZOFFSETFROM:-0500
TZOFFSETTO:-0600
TZNAME:CST
DTSTART:20251102T070000
END:STANDARD
BEGIN:DAYLIGHT
TZOFFSETFROM:-0600
TZOFFSETTO:-0500
TZNAME:CDT
DTSTART:20260308T080000
END:DAYLIGHT
BEGIN:STANDARD
TZOFFSETFROM:-0500
TZOFFSETTO:-0600
TZNAME:CST
DTSTART:20261101T070000
END:STANDARD
BEGIN:DAYLIGHT
TZOFFSETFROM:-0600
TZOFFSETTO:-0500
TZNAME:CDT
DTSTART:20270314T080000
END:DAYLIGHT
BEGIN:STANDARD
TZOFFSETFROM:-0500
TZOFFSETTO:-0600
TZNAME:CST
DTSTART:20271107T070000
END:STANDARD
END:VTIMEZONE
BEGIN:VEVENT
DTSTART;TZID=America/Chicago:20251214T140000
DTEND;TZID=America/Chicago:20251214T200000
DTSTAMP:20260421T201750
CREATED:20251119T173050Z
LAST-MODIFIED:20251119T173246Z
UID:5439-1765720800-1765742400@belizeassociationofhouston.org
SUMMARY:Christmas Social 2025
DESCRIPTION: You’re Invited! \nBelize Association of Houston Annual Christmas Social 2025 \nLet’s come together for an afternoon and evening of Belizean joy\, laughter\, and holiday cheer! \n\nDate: Sunday\, December 14\, 2025\nTime: 2:00 PM – 8:00 PM\nVenue: Country Lakes Estates Clubhouse 4120 Country Park Drive\, Spring\, TX 77388\n  \nThis is a POTLUCK celebration!\nPlease bring:\n Your favorite drinks \n A light dish or finger food to share (Belizean specialties especially welcome!) \nWe’ll have:\nMusic \nFun games for all ages\nGreat company & plenty of holiday spirit \nFamily-friendly | Everyone welcome | Free entry \nPlease RSVP by December 7th so we can plan accordingly:\nText/Call: [855-223-5493] or reply to this message.\nCome dressed in your festive best (or your favorite Belize colors!) and let’s make this the merriest Christmas Social yet! \nKriol Christmas vibes loading… See you there! 
URL:https://belizeassociationofhouston.org/event/christmas-social-2025/
LOCATION:Country Lakes Estates Clubhouse\, 4120 Country Park Dr.\, Spring\, TX\, 77388\, United States
ORGANIZER;CN="The Belize Association of Houston":MAILTO:contact@belizeassociationofhouston.org
END:VEVENT
BEGIN:VEVENT
DTSTART;VALUE=DATE:20260214
DTEND;VALUE=DATE:20260217
DTSTAMP:20260421T201750
CREATED:20260211T190906Z
LAST-MODIFIED:20260211T191210Z
UID:5443-1771027200-1771286399@belizeassociationofhouston.org
SUMMARY:Belize Immigration Mobile Passport Hub 2026
DESCRIPTION:Houston\, Texas — we’re coming.\n\n\nThe Belize Immigration Mobile Passport Hub is once again heading to the Diaspora\, bringing essential services closer to you. \n\n\n Houston\, Texas\n February 14th – 15th – 16th\, 2026\n Hilton Garden Inn – Energy Corridor\n Inside the Energy Ballroom\n\n\nThe Nationality & Passport Department will be onsite to accept:\n Passport applications\n Nationality by Descent applications\n\n\nThis is about convenience\, connection\, and service—because Belize meets its people wherever they are. \n\n\n Appointments are required. Book early:\n https://immigration.gov.bz/diaspora-hubs/
URL:https://belizeassociationofhouston.org/event/belize-immigration-mobile-passport-hub-2026/
LOCATION:Hilton Garden Inn – Energy Corridor\, 12245 Katy Fwy\, Houston\, TX\, 77079\, United States
ORGANIZER;CN="The Belize Association of Houston":MAILTO:contact@belizeassociationofhouston.org
END:VEVENT
BEGIN:VEVENT
DTSTART;TZID=America/Chicago:20260319T183000
DTEND;TZID=America/Chicago:20260319T210000
DTSTAMP:20260421T201750
CREATED:20260216T183957Z
LAST-MODIFIED:20260216T183957Z
UID:5453-1773945000-1773954000@belizeassociationofhouston.org
SUMMARY:March Business Mixer
DESCRIPTION:Have a business in Houston or surrounding areas? Want to meet other business owners? \nJoin us for our Belize Association March Business Mixer!!! \n\n\nDate: March 19th\, 2026 \n\n\nTime: 6:30 PM \n\n\nLocation: Simon’s Chinese Restaurant 10440 Richmond Ave\, Houston\, TX 77042 \n\n\n 
URL:https://belizeassociationofhouston.org/event/march-business-mixer/
LOCATION:Simon’s Chinese Restaurant\, 10440 Richmond Ave\, Houston\, TX\, 77042\, United States
ORGANIZER;CN="The Belize Association of Houston":MAILTO:contact@belizeassociationofhouston.org
END:VEVENT
END:VCALENDAR