BEGIN:VCALENDAR
VERSION:2.0
PRODID:-//Belize Association of Houston - ECPv6.15.20//NONSGML v1.0//EN
CALSCALE:GREGORIAN
METHOD:PUBLISH
X-ORIGINAL-URL:https://belizeassociationofhouston.org
X-WR-CALDESC:Events for Belize Association of Houston
REFRESH-INTERVAL;VALUE=DURATION:PT1H
X-Robots-Tag:noindex
X-PUBLISHED-TTL:PT1H
BEGIN:VTIMEZONE
TZID:America/Chicago
BEGIN:DAYLIGHT
TZOFFSETFROM:-0600
TZOFFSETTO:-0500
TZNAME:CDT
DTSTART:20240310T080000
END:DAYLIGHT
BEGIN:STANDARD
TZOFFSETFROM:-0500
TZOFFSETTO:-0600
TZNAME:CST
DTSTART:20241103T070000
END:STANDARD
BEGIN:DAYLIGHT
TZOFFSETFROM:-0600
TZOFFSETTO:-0500
TZNAME:CDT
DTSTART:20250309T080000
END:DAYLIGHT
BEGIN:STANDARD
TZOFFSETFROM:-0500
TZOFFSETTO:-0600
TZNAME:CST
DTSTART:20251102T070000
END:STANDARD
BEGIN:DAYLIGHT
TZOFFSETFROM:-0600
TZOFFSETTO:-0500
TZNAME:CDT
DTSTART:20260308T080000
END:DAYLIGHT
BEGIN:STANDARD
TZOFFSETFROM:-0500
TZOFFSETTO:-0600
TZNAME:CST
DTSTART:20261101T070000
END:STANDARD
END:VTIMEZONE
BEGIN:VEVENT
DTSTART;TZID=America/Chicago:20251108T140000
DTEND;TZID=America/Chicago:20251108T150000
DTSTAMP:20260421T201422
CREATED:20251103T201252Z
LAST-MODIFIED:20251103T201252Z
UID:5433-1762610400-1762614000@belizeassociationofhouston.org
SUMMARY:BAH November Meeting
DESCRIPTION:Our next General Meeting will be held virtually (WhatsApp) on Saturday\, November 8th\, from 2:00 to 3:00 pm CT. \nMembers will be automatically invited via their WhatsApp platform.
URL:https://belizeassociationofhouston.org/event/bah-november-meeting/
LOCATION:WhatsApp
ORGANIZER;CN="The Belize Association of Houston":MAILTO:contact@belizeassociationofhouston.org
END:VEVENT
END:VCALENDAR